BEGIN:VCALENDAR
VERSION:2.0
PRODID:-//Elijah Mountain Ministries Christian Church - ECPv6.0.1//NONSGML v1.0//EN
CALSCALE:GREGORIAN
METHOD:PUBLISH
X-WR-CALNAME:Elijah Mountain Ministries Christian Church
X-ORIGINAL-URL:https://elijahmountainministries.com
X-WR-CALDESC:Events for Elijah Mountain Ministries Christian Church
REFRESH-INTERVAL;VALUE=DURATION:PT1H
X-Robots-Tag:noindex
X-PUBLISHED-TTL:PT1H
BEGIN:VTIMEZONE
TZID:UTC
BEGIN:STANDARD
TZOFFSETFROM:+0000
TZOFFSETTO:+0000
TZNAME:UTC
DTSTART:20190101T000000
END:STANDARD
END:VTIMEZONE
BEGIN:VEVENT
DTSTART;TZID=UTC:20190914T090000
DTEND;TZID=UTC:20190914T233000
DTSTAMP:20260421T080529
CREATED:20190823T103411Z
LAST-MODIFIED:20191016T092516Z
UID:120-1568451600-1568503800@elijahmountainministries.com
SUMMARY:Men’s Ministry
DESCRIPTION:
URL:https://elijahmountainministries.com/event/mens-breakfast-meeting/2019-09-14/
LOCATION:Elijah Mountain
END:VEVENT
BEGIN:VEVENT
DTSTART;TZID=UTC:20190914T110000
DTEND;TZID=UTC:20190914T233000
DTSTAMP:20260421T080529
CREATED:20190823T102849Z
LAST-MODIFIED:20191016T092604Z
UID:116-1568458800-1568503800@elijahmountainministries.com
SUMMARY:Women’s Ministry
DESCRIPTION:
URL:https://elijahmountainministries.com/event/womens-meeting/2019-09-14/
LOCATION:Elijah Mountain
END:VEVENT
BEGIN:VEVENT
DTSTART;TZID=UTC:20240511T090000
DTEND;TZID=UTC:20240511T233000
DTSTAMP:20260421T080529
CREATED:20190823T103411Z
LAST-MODIFIED:20190823T103411Z
UID:466-1715418000-1715470200@elijahmountainministries.com
SUMMARY:Men’s Ministry
DESCRIPTION:
URL:https://elijahmountainministries.com/event/mens-breakfast-meeting/2024-05-11/
LOCATION:Elijah Mountain
END:VEVENT
BEGIN:VEVENT
DTSTART;TZID=UTC:20240511T110000
DTEND;TZID=UTC:20240511T233000
DTSTAMP:20260421T080529
CREATED:20190823T102849Z
LAST-MODIFIED:20190823T102849Z
UID:465-1715425200-1715470200@elijahmountainministries.com
SUMMARY:Women’s Ministry
DESCRIPTION:
URL:https://elijahmountainministries.com/event/womens-meeting/2024-05-11/
LOCATION:Elijah Mountain
END:VEVENT
BEGIN:VEVENT
DTSTART;TZID=UTC:20240608T090000
DTEND;TZID=UTC:20240608T233000
DTSTAMP:20260421T080529
CREATED:20190823T103411Z
LAST-MODIFIED:20190823T103411Z
UID:468-1717837200-1717889400@elijahmountainministries.com
SUMMARY:Men’s Ministry
DESCRIPTION:
URL:https://elijahmountainministries.com/event/mens-breakfast-meeting/2024-06-08/
LOCATION:Elijah Mountain
END:VEVENT
BEGIN:VEVENT
DTSTART;TZID=UTC:20240608T110000
DTEND;TZID=UTC:20240608T233000
DTSTAMP:20260421T080529
CREATED:20190823T102849Z
LAST-MODIFIED:20190823T102849Z
UID:467-1717844400-1717889400@elijahmountainministries.com
SUMMARY:Women’s Ministry
DESCRIPTION:
URL:https://elijahmountainministries.com/event/womens-meeting/2024-06-08/
LOCATION:Elijah Mountain
END:VEVENT
BEGIN:VEVENT
DTSTART;TZID=UTC:20240713T090000
DTEND;TZID=UTC:20240713T233000
DTSTAMP:20260421T080529
CREATED:20190823T103411Z
LAST-MODIFIED:20190823T103411Z
UID:470-1720861200-1720913400@elijahmountainministries.com
SUMMARY:Men’s Ministry
DESCRIPTION:
URL:https://elijahmountainministries.com/event/mens-breakfast-meeting/2024-07-13/
LOCATION:Elijah Mountain
END:VEVENT
BEGIN:VEVENT
DTSTART;TZID=UTC:20240713T110000
DTEND;TZID=UTC:20240713T233000
DTSTAMP:20260421T080529
CREATED:20190823T102849Z
LAST-MODIFIED:20190823T102849Z
UID:469-1720868400-1720913400@elijahmountainministries.com
SUMMARY:Women’s Ministry
DESCRIPTION:
URL:https://elijahmountainministries.com/event/womens-meeting/2024-07-13/
LOCATION:Elijah Mountain
END:VEVENT
BEGIN:VEVENT
DTSTART;TZID=UTC:20240810T090000
DTEND;TZID=UTC:20240810T233000
DTSTAMP:20260421T080529
CREATED:20190823T103411Z
LAST-MODIFIED:20190823T103411Z
UID:472-1723280400-1723332600@elijahmountainministries.com
SUMMARY:Men’s Ministry
DESCRIPTION:
URL:https://elijahmountainministries.com/event/mens-breakfast-meeting/2024-08-10/
LOCATION:Elijah Mountain
END:VEVENT
BEGIN:VEVENT
DTSTART;TZID=UTC:20240810T110000
DTEND;TZID=UTC:20240810T233000
DTSTAMP:20260421T080529
CREATED:20190823T102849Z
LAST-MODIFIED:20190823T102849Z
UID:471-1723287600-1723332600@elijahmountainministries.com
SUMMARY:Women’s Ministry
DESCRIPTION:
URL:https://elijahmountainministries.com/event/womens-meeting/2024-08-10/
LOCATION:Elijah Mountain
END:VEVENT
BEGIN:VEVENT
DTSTART;TZID=UTC:20240914T090000
DTEND;TZID=UTC:20240914T233000
DTSTAMP:20260421T080529
CREATED:20190823T103411Z
LAST-MODIFIED:20190823T103411Z
UID:474-1726304400-1726356600@elijahmountainministries.com
SUMMARY:Men’s Ministry
DESCRIPTION:
URL:https://elijahmountainministries.com/event/mens-breakfast-meeting/2024-09-14/
LOCATION:Elijah Mountain
END:VEVENT
BEGIN:VEVENT
DTSTART;TZID=UTC:20240914T110000
DTEND;TZID=UTC:20240914T233000
DTSTAMP:20260421T080529
CREATED:20190823T102849Z
LAST-MODIFIED:20190823T102849Z
UID:473-1726311600-1726356600@elijahmountainministries.com
SUMMARY:Women’s Ministry
DESCRIPTION:
URL:https://elijahmountainministries.com/event/womens-meeting/2024-09-14/
LOCATION:Elijah Mountain
END:VEVENT
BEGIN:VEVENT
DTSTART;TZID=UTC:20241012T090000
DTEND;TZID=UTC:20241012T233000
DTSTAMP:20260421T080529
CREATED:20190823T103411Z
LAST-MODIFIED:20190823T103411Z
UID:476-1728723600-1728775800@elijahmountainministries.com
SUMMARY:Men’s Ministry
DESCRIPTION:
URL:https://elijahmountainministries.com/event/mens-breakfast-meeting/2024-10-12/
LOCATION:Elijah Mountain
END:VEVENT
BEGIN:VEVENT
DTSTART;TZID=UTC:20241012T110000
DTEND;TZID=UTC:20241012T233000
DTSTAMP:20260421T080529
CREATED:20190823T102849Z
LAST-MODIFIED:20190823T102849Z
UID:475-1728730800-1728775800@elijahmountainministries.com
SUMMARY:Women’s Ministry
DESCRIPTION:
URL:https://elijahmountainministries.com/event/womens-meeting/2024-10-12/
LOCATION:Elijah Mountain
END:VEVENT
BEGIN:VEVENT
DTSTART;TZID=UTC:20241109T090000
DTEND;TZID=UTC:20241109T233000
DTSTAMP:20260421T080529
CREATED:20190823T103411Z
LAST-MODIFIED:20190823T103411Z
UID:478-1731142800-1731195000@elijahmountainministries.com
SUMMARY:Men’s Ministry
DESCRIPTION:
URL:https://elijahmountainministries.com/event/mens-breakfast-meeting/2024-11-09/
LOCATION:Elijah Mountain
END:VEVENT
BEGIN:VEVENT
DTSTART;TZID=UTC:20241109T110000
DTEND;TZID=UTC:20241109T233000
DTSTAMP:20260421T080529
CREATED:20190823T102849Z
LAST-MODIFIED:20190823T102849Z
UID:477-1731150000-1731195000@elijahmountainministries.com
SUMMARY:Women’s Ministry
DESCRIPTION:
URL:https://elijahmountainministries.com/event/womens-meeting/2024-11-09/
LOCATION:Elijah Mountain
END:VEVENT
BEGIN:VEVENT
DTSTART;TZID=UTC:20241214T090000
DTEND;TZID=UTC:20241214T233000
DTSTAMP:20260421T080529
CREATED:20190823T103411Z
LAST-MODIFIED:20190823T103411Z
UID:480-1734166800-1734219000@elijahmountainministries.com
SUMMARY:Men’s Ministry
DESCRIPTION:
URL:https://elijahmountainministries.com/event/mens-breakfast-meeting/2024-12-14/
LOCATION:Elijah Mountain
END:VEVENT
BEGIN:VEVENT
DTSTART;TZID=UTC:20241214T110000
DTEND;TZID=UTC:20241214T233000
DTSTAMP:20260421T080529
CREATED:20190823T102849Z
LAST-MODIFIED:20190823T102849Z
UID:479-1734174000-1734219000@elijahmountainministries.com
SUMMARY:Women’s Ministry
DESCRIPTION:
URL:https://elijahmountainministries.com/event/womens-meeting/2024-12-14/
LOCATION:Elijah Mountain
END:VEVENT
BEGIN:VEVENT
DTSTART;TZID=UTC:20250111T090000
DTEND;TZID=UTC:20250111T233000
DTSTAMP:20260421T080529
CREATED:20190823T103411Z
LAST-MODIFIED:20190823T103411Z
UID:482-1736586000-1736638200@elijahmountainministries.com
SUMMARY:Men’s Ministry
DESCRIPTION:
URL:https://elijahmountainministries.com/event/mens-breakfast-meeting/2025-01-11/
LOCATION:Elijah Mountain
END:VEVENT
BEGIN:VEVENT
DTSTART;TZID=UTC:20250111T110000
DTEND;TZID=UTC:20250111T233000
DTSTAMP:20260421T080529
CREATED:20190823T102849Z
LAST-MODIFIED:20190823T102849Z
UID:481-1736593200-1736638200@elijahmountainministries.com
SUMMARY:Women’s Ministry
DESCRIPTION:
URL:https://elijahmountainministries.com/event/womens-meeting/2025-01-11/
LOCATION:Elijah Mountain
END:VEVENT
BEGIN:VEVENT
DTSTART;TZID=UTC:20250208T090000
DTEND;TZID=UTC:20250208T233000
DTSTAMP:20260421T080529
CREATED:20190823T103411Z
LAST-MODIFIED:20190823T103411Z
UID:484-1739005200-1739057400@elijahmountainministries.com
SUMMARY:Men’s Ministry
DESCRIPTION:
URL:https://elijahmountainministries.com/event/mens-breakfast-meeting/2025-02-08/
LOCATION:Elijah Mountain
END:VEVENT
BEGIN:VEVENT
DTSTART;TZID=UTC:20250208T110000
DTEND;TZID=UTC:20250208T233000
DTSTAMP:20260421T080529
CREATED:20190823T102849Z
LAST-MODIFIED:20190823T102849Z
UID:483-1739012400-1739057400@elijahmountainministries.com
SUMMARY:Women’s Ministry
DESCRIPTION:
URL:https://elijahmountainministries.com/event/womens-meeting/2025-02-08/
LOCATION:Elijah Mountain
END:VEVENT
BEGIN:VEVENT
DTSTART;TZID=UTC:20250308T090000
DTEND;TZID=UTC:20250308T233000
DTSTAMP:20260421T080529
CREATED:20190823T103411Z
LAST-MODIFIED:20190823T103411Z
UID:486-1741424400-1741476600@elijahmountainministries.com
SUMMARY:Men’s Ministry
DESCRIPTION:
URL:https://elijahmountainministries.com/event/mens-breakfast-meeting/2025-03-08/
LOCATION:Elijah Mountain
END:VEVENT
BEGIN:VEVENT
DTSTART;TZID=UTC:20250308T110000
DTEND;TZID=UTC:20250308T233000
DTSTAMP:20260421T080529
CREATED:20190823T102849Z
LAST-MODIFIED:20190823T102849Z
UID:485-1741431600-1741476600@elijahmountainministries.com
SUMMARY:Women’s Ministry
DESCRIPTION:
URL:https://elijahmountainministries.com/event/womens-meeting/2025-03-08/
LOCATION:Elijah Mountain
END:VEVENT
BEGIN:VEVENT
DTSTART;TZID=UTC:20250412T090000
DTEND;TZID=UTC:20250412T233000
DTSTAMP:20260421T080529
CREATED:20190823T103411Z
LAST-MODIFIED:20190823T103411Z
UID:488-1744448400-1744500600@elijahmountainministries.com
SUMMARY:Men’s Ministry
DESCRIPTION:
URL:https://elijahmountainministries.com/event/mens-breakfast-meeting/2025-04-12/
LOCATION:Elijah Mountain
END:VEVENT
BEGIN:VEVENT
DTSTART;TZID=UTC:20250412T110000
DTEND;TZID=UTC:20250412T233000
DTSTAMP:20260421T080529
CREATED:20190823T102849Z
LAST-MODIFIED:20190823T102849Z
UID:487-1744455600-1744500600@elijahmountainministries.com
SUMMARY:Women’s Ministry
DESCRIPTION:
URL:https://elijahmountainministries.com/event/womens-meeting/2025-04-12/
LOCATION:Elijah Mountain
END:VEVENT
BEGIN:VEVENT
DTSTART;TZID=UTC:20250510T090000
DTEND;TZID=UTC:20250510T233000
DTSTAMP:20260421T080529
CREATED:20190823T103411Z
LAST-MODIFIED:20190823T103411Z
UID:490-1746867600-1746919800@elijahmountainministries.com
SUMMARY:Men’s Ministry
DESCRIPTION:
URL:https://elijahmountainministries.com/event/mens-breakfast-meeting/2025-05-10/
LOCATION:Elijah Mountain
END:VEVENT
BEGIN:VEVENT
DTSTART;TZID=UTC:20250510T110000
DTEND;TZID=UTC:20250510T233000
DTSTAMP:20260421T080529
CREATED:20190823T102849Z
LAST-MODIFIED:20190823T102849Z
UID:489-1746874800-1746919800@elijahmountainministries.com
SUMMARY:Women’s Ministry
DESCRIPTION:
URL:https://elijahmountainministries.com/event/womens-meeting/2025-05-10/
LOCATION:Elijah Mountain
END:VEVENT
BEGIN:VEVENT
DTSTART;TZID=UTC:20250614T090000
DTEND;TZID=UTC:20250614T233000
DTSTAMP:20260421T080529
CREATED:20190823T103411Z
LAST-MODIFIED:20190823T103411Z
UID:492-1749891600-1749943800@elijahmountainministries.com
SUMMARY:Men’s Ministry
DESCRIPTION:
URL:https://elijahmountainministries.com/event/mens-breakfast-meeting/2025-06-14/
LOCATION:Elijah Mountain
END:VEVENT
BEGIN:VEVENT
DTSTART;TZID=UTC:20250614T110000
DTEND;TZID=UTC:20250614T233000
DTSTAMP:20260421T080529
CREATED:20190823T102849Z
LAST-MODIFIED:20190823T102849Z
UID:491-1749898800-1749943800@elijahmountainministries.com
SUMMARY:Women’s Ministry
DESCRIPTION:
URL:https://elijahmountainministries.com/event/womens-meeting/2025-06-14/
LOCATION:Elijah Mountain
END:VEVENT
END:VCALENDAR