BEGIN:VCALENDAR
VERSION:2.0
PRODID:-//Elijah Mountain Ministries Christian Church - ECPv6.0.1//NONSGML v1.0//EN
CALSCALE:GREGORIAN
METHOD:PUBLISH
X-ORIGINAL-URL:https://elijahmountainministries.com
X-WR-CALDESC:Events for Elijah Mountain Ministries Christian Church
REFRESH-INTERVAL;VALUE=DURATION:PT1H
X-Robots-Tag:noindex
X-PUBLISHED-TTL:PT1H
BEGIN:VTIMEZONE
TZID:UTC
BEGIN:STANDARD
TZOFFSETFROM:+0000
TZOFFSETTO:+0000
TZNAME:UTC
DTSTART:20270101T000000
END:STANDARD
END:VTIMEZONE
BEGIN:VEVENT
DTSTART;TZID=UTC:20270313T090000
DTEND;TZID=UTC:20270313T233000
DTSTAMP:20260421T091023
CREATED:20190823T103411Z
LAST-MODIFIED:20190823T103411Z
UID:534-1804928400-1804980600@elijahmountainministries.com
SUMMARY:Men’s Ministry
DESCRIPTION:
URL:https://elijahmountainministries.com/event/mens-breakfast-meeting/2027-03-13/
LOCATION:Elijah Mountain
END:VEVENT
BEGIN:VEVENT
DTSTART;TZID=UTC:20270313T110000
DTEND;TZID=UTC:20270313T233000
DTSTAMP:20260421T091023
CREATED:20190823T102849Z
LAST-MODIFIED:20190823T102849Z
UID:533-1804935600-1804980600@elijahmountainministries.com
SUMMARY:Women’s Ministry
DESCRIPTION:
URL:https://elijahmountainministries.com/event/womens-meeting/2027-03-13/
LOCATION:Elijah Mountain
END:VEVENT
BEGIN:VEVENT
DTSTART;TZID=UTC:20270410T090000
DTEND;TZID=UTC:20270410T233000
DTSTAMP:20260421T091023
CREATED:20190823T103411Z
LAST-MODIFIED:20190823T103411Z
UID:536-1807347600-1807399800@elijahmountainministries.com
SUMMARY:Men’s Ministry
DESCRIPTION:
URL:https://elijahmountainministries.com/event/mens-breakfast-meeting/2027-04-10/
LOCATION:Elijah Mountain
END:VEVENT
BEGIN:VEVENT
DTSTART;TZID=UTC:20270410T110000
DTEND;TZID=UTC:20270410T233000
DTSTAMP:20260421T091023
CREATED:20190823T102849Z
LAST-MODIFIED:20190823T102849Z
UID:535-1807354800-1807399800@elijahmountainministries.com
SUMMARY:Women’s Ministry
DESCRIPTION:
URL:https://elijahmountainministries.com/event/womens-meeting/2027-04-10/
LOCATION:Elijah Mountain
END:VEVENT
BEGIN:VEVENT
DTSTART;TZID=UTC:20270508T090000
DTEND;TZID=UTC:20270508T233000
DTSTAMP:20260421T091023
CREATED:20190823T103411Z
LAST-MODIFIED:20190823T103411Z
UID:538-1809766800-1809819000@elijahmountainministries.com
SUMMARY:Men’s Ministry
DESCRIPTION:
URL:https://elijahmountainministries.com/event/mens-breakfast-meeting/2027-05-08/
LOCATION:Elijah Mountain
END:VEVENT
BEGIN:VEVENT
DTSTART;TZID=UTC:20270508T110000
DTEND;TZID=UTC:20270508T233000
DTSTAMP:20260421T091023
CREATED:20190823T102849Z
LAST-MODIFIED:20190823T102849Z
UID:537-1809774000-1809819000@elijahmountainministries.com
SUMMARY:Women’s Ministry
DESCRIPTION:
URL:https://elijahmountainministries.com/event/womens-meeting/2027-05-08/
LOCATION:Elijah Mountain
END:VEVENT
BEGIN:VEVENT
DTSTART;TZID=UTC:20270612T090000
DTEND;TZID=UTC:20270612T233000
DTSTAMP:20260421T091023
CREATED:20190823T103411Z
LAST-MODIFIED:20190823T103411Z
UID:540-1812790800-1812843000@elijahmountainministries.com
SUMMARY:Men’s Ministry
DESCRIPTION:
URL:https://elijahmountainministries.com/event/mens-breakfast-meeting/2027-06-12/
LOCATION:Elijah Mountain
END:VEVENT
BEGIN:VEVENT
DTSTART;TZID=UTC:20270612T110000
DTEND;TZID=UTC:20270612T233000
DTSTAMP:20260421T091023
CREATED:20190823T102849Z
LAST-MODIFIED:20190823T102849Z
UID:539-1812798000-1812843000@elijahmountainministries.com
SUMMARY:Women’s Ministry
DESCRIPTION:
URL:https://elijahmountainministries.com/event/womens-meeting/2027-06-12/
LOCATION:Elijah Mountain
END:VEVENT
BEGIN:VEVENT
DTSTART;TZID=UTC:20270710T090000
DTEND;TZID=UTC:20270710T233000
DTSTAMP:20260421T091023
CREATED:20190823T103411Z
LAST-MODIFIED:20190823T103411Z
UID:542-1815210000-1815262200@elijahmountainministries.com
SUMMARY:Men’s Ministry
DESCRIPTION:
URL:https://elijahmountainministries.com/event/mens-breakfast-meeting/2027-07-10/
LOCATION:Elijah Mountain
END:VEVENT
BEGIN:VEVENT
DTSTART;TZID=UTC:20270710T110000
DTEND;TZID=UTC:20270710T233000
DTSTAMP:20260421T091023
CREATED:20190823T102849Z
LAST-MODIFIED:20190823T102849Z
UID:541-1815217200-1815262200@elijahmountainministries.com
SUMMARY:Women’s Ministry
DESCRIPTION:
URL:https://elijahmountainministries.com/event/womens-meeting/2027-07-10/
LOCATION:Elijah Mountain
END:VEVENT
BEGIN:VEVENT
DTSTART;TZID=UTC:20270814T090000
DTEND;TZID=UTC:20270814T233000
DTSTAMP:20260421T091023
CREATED:20190823T103411Z
LAST-MODIFIED:20190823T103411Z
UID:544-1818234000-1818286200@elijahmountainministries.com
SUMMARY:Men’s Ministry
DESCRIPTION:
URL:https://elijahmountainministries.com/event/mens-breakfast-meeting/2027-08-14/
LOCATION:Elijah Mountain
END:VEVENT
BEGIN:VEVENT
DTSTART;TZID=UTC:20270814T110000
DTEND;TZID=UTC:20270814T233000
DTSTAMP:20260421T091023
CREATED:20190823T102849Z
LAST-MODIFIED:20190823T102849Z
UID:543-1818241200-1818286200@elijahmountainministries.com
SUMMARY:Women’s Ministry
DESCRIPTION:
URL:https://elijahmountainministries.com/event/womens-meeting/2027-08-14/
LOCATION:Elijah Mountain
END:VEVENT
BEGIN:VEVENT
DTSTART;TZID=UTC:20270911T090000
DTEND;TZID=UTC:20270911T233000
DTSTAMP:20260421T091023
CREATED:20190823T103411Z
LAST-MODIFIED:20190823T103411Z
UID:546-1820653200-1820705400@elijahmountainministries.com
SUMMARY:Men’s Ministry
DESCRIPTION:
URL:https://elijahmountainministries.com/event/mens-breakfast-meeting/2027-09-11/
LOCATION:Elijah Mountain
END:VEVENT
BEGIN:VEVENT
DTSTART;TZID=UTC:20270911T110000
DTEND;TZID=UTC:20270911T233000
DTSTAMP:20260421T091023
CREATED:20190823T102849Z
LAST-MODIFIED:20190823T102849Z
UID:545-1820660400-1820705400@elijahmountainministries.com
SUMMARY:Women’s Ministry
DESCRIPTION:
URL:https://elijahmountainministries.com/event/womens-meeting/2027-09-11/
LOCATION:Elijah Mountain
END:VEVENT
BEGIN:VEVENT
DTSTART;TZID=UTC:20271009T090000
DTEND;TZID=UTC:20271009T233000
DTSTAMP:20260421T091023
CREATED:20190823T103411Z
LAST-MODIFIED:20190823T103411Z
UID:548-1823072400-1823124600@elijahmountainministries.com
SUMMARY:Men’s Ministry
DESCRIPTION:
URL:https://elijahmountainministries.com/event/mens-breakfast-meeting/2027-10-09/
LOCATION:Elijah Mountain
END:VEVENT
BEGIN:VEVENT
DTSTART;TZID=UTC:20271009T110000
DTEND;TZID=UTC:20271009T233000
DTSTAMP:20260421T091023
CREATED:20190823T102849Z
LAST-MODIFIED:20190823T102849Z
UID:547-1823079600-1823124600@elijahmountainministries.com
SUMMARY:Women’s Ministry
DESCRIPTION:
URL:https://elijahmountainministries.com/event/womens-meeting/2027-10-09/
LOCATION:Elijah Mountain
END:VEVENT
BEGIN:VEVENT
DTSTART;TZID=UTC:20271113T090000
DTEND;TZID=UTC:20271113T233000
DTSTAMP:20260421T091023
CREATED:20190823T103411Z
LAST-MODIFIED:20190823T103411Z
UID:550-1826096400-1826148600@elijahmountainministries.com
SUMMARY:Men’s Ministry
DESCRIPTION:
URL:https://elijahmountainministries.com/event/mens-breakfast-meeting/2027-11-13/
LOCATION:Elijah Mountain
END:VEVENT
BEGIN:VEVENT
DTSTART;TZID=UTC:20271113T110000
DTEND;TZID=UTC:20271113T233000
DTSTAMP:20260421T091023
CREATED:20190823T102849Z
LAST-MODIFIED:20190823T102849Z
UID:549-1826103600-1826148600@elijahmountainministries.com
SUMMARY:Women’s Ministry
DESCRIPTION:
URL:https://elijahmountainministries.com/event/womens-meeting/2027-11-13/
LOCATION:Elijah Mountain
END:VEVENT
BEGIN:VEVENT
DTSTART;TZID=UTC:20271211T090000
DTEND;TZID=UTC:20271211T233000
DTSTAMP:20260421T091023
CREATED:20190823T103411Z
LAST-MODIFIED:20190823T103411Z
UID:552-1828515600-1828567800@elijahmountainministries.com
SUMMARY:Men’s Ministry
DESCRIPTION:
URL:https://elijahmountainministries.com/event/mens-breakfast-meeting/2027-12-11/
LOCATION:Elijah Mountain
END:VEVENT
BEGIN:VEVENT
DTSTART;TZID=UTC:20271211T110000
DTEND;TZID=UTC:20271211T233000
DTSTAMP:20260421T091023
CREATED:20190823T102849Z
LAST-MODIFIED:20190823T102849Z
UID:551-1828522800-1828567800@elijahmountainministries.com
SUMMARY:Women’s Ministry
DESCRIPTION:
URL:https://elijahmountainministries.com/event/womens-meeting/2027-12-11/
LOCATION:Elijah Mountain
END:VEVENT
BEGIN:VEVENT
DTSTART;TZID=UTC:20280108T090000
DTEND;TZID=UTC:20280108T233000
DTSTAMP:20260421T091023
CREATED:20190823T103411Z
LAST-MODIFIED:20190823T103411Z
UID:554-1830934800-1830987000@elijahmountainministries.com
SUMMARY:Men’s Ministry
DESCRIPTION:
URL:https://elijahmountainministries.com/event/mens-breakfast-meeting/2028-01-08/
LOCATION:Elijah Mountain
END:VEVENT
BEGIN:VEVENT
DTSTART;TZID=UTC:20280108T110000
DTEND;TZID=UTC:20280108T233000
DTSTAMP:20260421T091023
CREATED:20190823T102849Z
LAST-MODIFIED:20190823T102849Z
UID:553-1830942000-1830987000@elijahmountainministries.com
SUMMARY:Women’s Ministry
DESCRIPTION:
URL:https://elijahmountainministries.com/event/womens-meeting/2028-01-08/
LOCATION:Elijah Mountain
END:VEVENT
BEGIN:VEVENT
DTSTART;TZID=UTC:20280212T090000
DTEND;TZID=UTC:20280212T233000
DTSTAMP:20260421T091023
CREATED:20190823T103411Z
LAST-MODIFIED:20190823T103411Z
UID:556-1833958800-1834011000@elijahmountainministries.com
SUMMARY:Men’s Ministry
DESCRIPTION:
URL:https://elijahmountainministries.com/event/mens-breakfast-meeting/2028-02-12/
LOCATION:Elijah Mountain
END:VEVENT
BEGIN:VEVENT
DTSTART;TZID=UTC:20280212T110000
DTEND;TZID=UTC:20280212T233000
DTSTAMP:20260421T091023
CREATED:20190823T102849Z
LAST-MODIFIED:20190823T102849Z
UID:555-1833966000-1834011000@elijahmountainministries.com
SUMMARY:Women’s Ministry
DESCRIPTION:
URL:https://elijahmountainministries.com/event/womens-meeting/2028-02-12/
LOCATION:Elijah Mountain
END:VEVENT
BEGIN:VEVENT
DTSTART;TZID=UTC:20280311T090000
DTEND;TZID=UTC:20280311T233000
DTSTAMP:20260421T091023
CREATED:20190823T103411Z
LAST-MODIFIED:20190823T103411Z
UID:558-1836378000-1836430200@elijahmountainministries.com
SUMMARY:Men’s Ministry
DESCRIPTION:
URL:https://elijahmountainministries.com/event/mens-breakfast-meeting/2028-03-11/
LOCATION:Elijah Mountain
END:VEVENT
BEGIN:VEVENT
DTSTART;TZID=UTC:20280311T110000
DTEND;TZID=UTC:20280311T233000
DTSTAMP:20260421T091023
CREATED:20190823T102849Z
LAST-MODIFIED:20190823T102849Z
UID:557-1836385200-1836430200@elijahmountainministries.com
SUMMARY:Women’s Ministry
DESCRIPTION:
URL:https://elijahmountainministries.com/event/womens-meeting/2028-03-11/
LOCATION:Elijah Mountain
END:VEVENT
BEGIN:VEVENT
DTSTART;TZID=UTC:20280408T090000
DTEND;TZID=UTC:20280408T233000
DTSTAMP:20260421T091023
CREATED:20190823T103411Z
LAST-MODIFIED:20190823T103411Z
UID:560-1838797200-1838849400@elijahmountainministries.com
SUMMARY:Men’s Ministry
DESCRIPTION:
URL:https://elijahmountainministries.com/event/mens-breakfast-meeting/2028-04-08/
LOCATION:Elijah Mountain
END:VEVENT
BEGIN:VEVENT
DTSTART;TZID=UTC:20280408T110000
DTEND;TZID=UTC:20280408T233000
DTSTAMP:20260421T091023
CREATED:20190823T102849Z
LAST-MODIFIED:20190823T102849Z
UID:559-1838804400-1838849400@elijahmountainministries.com
SUMMARY:Women’s Ministry
DESCRIPTION:
URL:https://elijahmountainministries.com/event/womens-meeting/2028-04-08/
LOCATION:Elijah Mountain
END:VEVENT
END:VCALENDAR